BEGIN:VCALENDAR
VERSION:2.0
PRODID:-//Food Is Free Washington - ECPv6.15.20//NONSGML v1.0//EN
CALSCALE:GREGORIAN
METHOD:PUBLISH
X-WR-CALNAME:Food Is Free Washington
X-ORIGINAL-URL:https://foodisfreewashington.org
X-WR-CALDESC:Events for Food Is Free Washington
REFRESH-INTERVAL;VALUE=DURATION:PT1H
X-Robots-Tag:noindex
X-PUBLISHED-TTL:PT1H
BEGIN:VTIMEZONE
TZID:America/Los_Angeles
BEGIN:DAYLIGHT
TZOFFSETFROM:-0800
TZOFFSETTO:-0700
TZNAME:PDT
DTSTART:20210314T100000
END:DAYLIGHT
BEGIN:STANDARD
TZOFFSETFROM:-0700
TZOFFSETTO:-0800
TZNAME:PST
DTSTART:20211107T090000
END:STANDARD
BEGIN:DAYLIGHT
TZOFFSETFROM:-0800
TZOFFSETTO:-0700
TZNAME:PDT
DTSTART:20220313T100000
END:DAYLIGHT
BEGIN:STANDARD
TZOFFSETFROM:-0700
TZOFFSETTO:-0800
TZNAME:PST
DTSTART:20221106T090000
END:STANDARD
BEGIN:DAYLIGHT
TZOFFSETFROM:-0800
TZOFFSETTO:-0700
TZNAME:PDT
DTSTART:20230312T100000
END:DAYLIGHT
BEGIN:STANDARD
TZOFFSETFROM:-0700
TZOFFSETTO:-0800
TZNAME:PST
DTSTART:20231105T090000
END:STANDARD
END:VTIMEZONE
BEGIN:VEVENT
DTSTART;TZID=America/Los_Angeles:20220409T100000
DTEND;TZID=America/Los_Angeles:20220409T150000
DTSTAMP:20260419T225324
CREATED:20220409T192910Z
LAST-MODIFIED:20220409T193111Z
UID:1373-1649498400-1649516400@foodisfreewashington.org
SUMMARY:Visit Our Booth at the South Sound Sustainability Expo
DESCRIPTION:We’ll be giving away Spring Veggie Starts\, Seed Packets\, and garden tool sets for children 5+ (while supplies last) \nWe look forward to seeing you there!
URL:https://foodisfreewashington.org/event/visit-our-booth-at-the-south-sound-sustainability-expo/
LOCATION:University of Washington\, Tacoma – Prairie Line Trail\, 1700 Commerce\, Tacoma\, WA\, 98402\, United States
CATEGORIES:Conventions and Expos
ATTACH;FMTTYPE=image/png:https://foodisfreewashington.org/wp-content/uploads/2022/04/2022-Sustainability-Expo-Logo-16x9-1.png
ORGANIZER;CN="Ursula Thompson":MAILTO:ursula@foodisfreewashington.org/
END:VEVENT
END:VCALENDAR